BEGIN:VCALENDAR
VERSION:2.0
PRODID:-//eventon.com NONSGML v1.0//EN
BEGIN:VEVENT
UID:69e9ff69f1d39
DTSTAMP:20260423T131553
DTSTART:20230613T141500Z
DTEND:20230613T215000Z
LOCATION:Sportanlage Weidenstraße Weidenstr. 19
SUMMARY:SWM Jugend Probetraining Jhrg. 2014 und 2015
DESCRIPTION: 
END:VEVENT
END:VCALENDAR